BEGIN:VCALENDAR
VERSION:2.0
PRODID:-//Cafe Oztara - ECPv6.15.20//NONSGML v1.0//EN
CALSCALE:GREGORIAN
METHOD:PUBLISH
X-WR-CALNAME:Cafe Oztara
X-ORIGINAL-URL:https://cafeoztara.com
X-WR-CALDESC:Events for Cafe Oztara
REFRESH-INTERVAL;VALUE=DURATION:PT1H
X-Robots-Tag:noindex
X-PUBLISHED-TTL:PT1H
BEGIN:VTIMEZONE
TZID:UTC
BEGIN:STANDARD
TZOFFSETFROM:+0000
TZOFFSETTO:+0000
TZNAME:UTC
DTSTART:20240101T000000
END:STANDARD
END:VTIMEZONE
BEGIN:VEVENT
DTSTART;VALUE=DATE:20251225
DTEND;VALUE=DATE:20251226
DTSTAMP:20260423T215053
CREATED:20251223T154937Z
LAST-MODIFIED:20251223T154937Z
UID:487-1766620800-1766707199@cafeoztara.com
SUMMARY:CLOSED on Christmas Day
DESCRIPTION:
URL:https://cafeoztara.com/event/closed-on-christmas-day-2/
LOCATION:Cafe Oztara\, 1446 E Washington St\, Indianapolis\, IN\, 46201\, United States
END:VEVENT
END:VCALENDAR