BEGIN:VCALENDAR
VERSION:2.0
PRODID:-//Cafe Oztara - ECPv6.15.20//NONSGML v1.0//EN
CALSCALE:GREGORIAN
METHOD:PUBLISH
X-WR-CALNAME:Cafe Oztara
X-ORIGINAL-URL:https://cafeoztara.com
X-WR-CALDESC:Events for Cafe Oztara
REFRESH-INTERVAL;VALUE=DURATION:PT1H
X-Robots-Tag:noindex
X-PUBLISHED-TTL:PT1H
BEGIN:VTIMEZONE
TZID:UTC
BEGIN:STANDARD
TZOFFSETFROM:+0000
TZOFFSETTO:+0000
TZNAME:UTC
DTSTART:20250101T000000
END:STANDARD
END:VTIMEZONE
BEGIN:VEVENT
DTSTART;TZID=UTC:20260307T100000
DTEND;TZID=UTC:20260307T130000
DTSTAMP:20260423T201631
CREATED:20260226T164733Z
LAST-MODIFIED:20260226T164733Z
UID:520-1772877600-1772888400@cafeoztara.com
SUMMARY:Masks of Resilience Workshop Series
DESCRIPTION:Damien Center’s art therapy program and independent artist Ventiko will host the workshop series “Masks of Resilience\,” a mask-making and storytelling experience that brings awareness to substance use disorder and addiction recovery. Participants will engage in trauma-informed art making designed to provide practical tools for cultivating resilience while navigating the realities of substance use and addiction. \nThe program is part of Indy Art Council’s Arts\, Health\, and Wellbeing initiative\, funded by the National Endowment for the Arts (NEA). The initiative connects the arts to social connection\, belonging\, and mental health while bringing awareness to substance use disorder\, recovery\, and prevention. \nThe sessions are free and open to the public. A culminating celebration and exhibition of participant artwork will take place Saturday\, April 4 from 10 a.m. to 1 p.m.\, at Cafe Oztara.
URL:https://cafeoztara.com/event/masks-of-resilience-workshop-series/
LOCATION:Cafe Oztara\, 1446 E Washington St\, Indianapolis\, IN\, 46201\, United States
END:VEVENT
BEGIN:VEVENT
DTSTART;TZID=UTC:20260314T100000
DTEND;TZID=UTC:20260314T130000
DTSTAMP:20260423T201631
CREATED:20260226T165237Z
LAST-MODIFIED:20260226T165237Z
UID:524-1773482400-1773493200@cafeoztara.com
SUMMARY:Masks of Resilience Workshop Series
DESCRIPTION:Damien Center’s art therapy program and independent artist Ventiko will host the workshop series “Masks of Resilience\,” a mask-making and storytelling experience that brings awareness to substance use disorder and addiction recovery. Participants will engage in trauma-informed art making designed to provide practical tools for cultivating resilience while navigating the realities of substance use and addiction. \nThe program is part of Indy Art Council’s Arts\, Health\, and Wellbeing initiative\, funded by the National Endowment for the Arts (NEA). The initiative connects the arts to social connection\, belonging\, and mental health while bringing awareness to substance use disorder\, recovery\, and prevention. \nThe sessions are free and open to the public. A culminating celebration and exhibition of participant artwork will take place Saturday\, April 4 from 10 a.m. to 1 p.m.\, at Cafe Oztara.
URL:https://cafeoztara.com/event/masks-of-resilience-workshop-series-3/
LOCATION:IN
END:VEVENT
BEGIN:VEVENT
DTSTART;TZID=UTC:20260321T100000
DTEND;TZID=UTC:20260321T130000
DTSTAMP:20260423T201631
CREATED:20260226T165922Z
LAST-MODIFIED:20260226T165922Z
UID:526-1774087200-1774098000@cafeoztara.com
SUMMARY:Masks of Resilience Workshop Series
DESCRIPTION:Damien Center’s art therapy program and independent artist Ventiko will host the workshop series “Masks of Resilience\,” a mask-making and storytelling experience that brings awareness to substance use disorder and addiction recovery. Participants will engage in trauma-informed art making designed to provide practical tools for cultivating resilience while navigating the realities of substance use and addiction. \nThe program is part of Indy Art Council’s Arts\, Health\, and Wellbeing initiative\, funded by the National Endowment for the Arts (NEA). The initiative connects the arts to social connection\, belonging\, and mental health while bringing awareness to substance use disorder\, recovery\, and prevention. \nThe sessions are free and open to the public. A culminating celebration and exhibition of participant artwork will take place Saturday\, April 4 from 10 a.m. to 1 p.m.\, at Cafe Oztara.
URL:https://cafeoztara.com/event/masks-of-resilience-workshop-series-4/
LOCATION:IN
END:VEVENT
BEGIN:VEVENT
DTSTART;TZID=UTC:20260328T100000
DTEND;TZID=UTC:20260328T130000
DTSTAMP:20260423T201631
CREATED:20260226T170314Z
LAST-MODIFIED:20260226T170314Z
UID:530-1774692000-1774702800@cafeoztara.com
SUMMARY:Masks of Resilience Workshop Series
DESCRIPTION:Damien Center’s art therapy program and independent artist Ventiko will host the workshop series “Masks of Resilience\,” a mask-making and storytelling experience that brings awareness to substance use disorder and addiction recovery. Participants will engage in trauma-informed art making designed to provide practical tools for cultivating resilience while navigating the realities of substance use and addiction. \nThe program is part of Indy Art Council’s Arts\, Health\, and Wellbeing initiative\, funded by the National Endowment for the Arts (NEA). The initiative connects the arts to social connection\, belonging\, and mental health while bringing awareness to substance use disorder\, recovery\, and prevention. \nThe sessions are free and open to the public. A culminating celebration and exhibition of participant artwork will take place Saturday\, April 4 from 10 a.m. to 1 p.m.\, at Cafe Oztara.
URL:https://cafeoztara.com/event/masks-of-resilience-workshop-series-6/
LOCATION:IN
END:VEVENT
BEGIN:VEVENT
DTSTART;TZID=UTC:20260404T110000
DTEND;TZID=UTC:20260404T130000
DTSTAMP:20260423T201631
CREATED:20260226T170723Z
LAST-MODIFIED:20260317T151447Z
UID:533-1775300400-1775307600@cafeoztara.com
SUMMARY:Masks of Resilience: Performance and Exhibition Opening
DESCRIPTION:
URL:https://cafeoztara.com/event/masks-of-resilience-performance-and-exhibition-opening/
LOCATION:Cafe Oztara\, 1446 E Washington St\, Indianapolis\, IN\, 46201\, United States
END:VEVENT
BEGIN:VEVENT
DTSTART;TZID=UTC:20260425T093000
DTEND;TZID=UTC:20260425T110000
DTSTAMP:20260423T201631
CREATED:20260421T181254Z
LAST-MODIFIED:20260421T181254Z
UID:632-1777109400-1777114800@cafeoztara.com
SUMMARY:YES! iCan Yoga
DESCRIPTION:Ready to stretch\, breathe\, and feel amazing? Yes! iCan Yoga is an awesome in-person event where you can relax your mind and strengthen your body. Whether you’re a beginner or a pro\, come hang out\, meet cool people\, and find your zen. Bring your mat\, comfy clothes\, and a smile. Let’s flow together and make your day brighter! All tickets come with a same-day redeemable voucher for a beverage at Cafe Oztara\, too!
URL:https://cafeoztara.com/event/yes-ican-yoga/
LOCATION:Cafe Oztara\, 1446 E Washington St\, Indianapolis\, IN\, 46201\, United States
END:VEVENT
END:VCALENDAR